BEGIN:VCALENDAR
VERSION:2.0
PRODID:-//God&#039;s Redeeming Temple International - ECPv6.15.20//NONSGML v1.0//EN
CALSCALE:GREGORIAN
METHOD:PUBLISH
X-WR-CALNAME:God&#039;s Redeeming Temple International
X-ORIGINAL-URL:https://www.godsredeemingtemple.com
X-WR-CALDESC:Events for God&#039;s Redeeming Temple International
REFRESH-INTERVAL;VALUE=DURATION:PT1H
X-Robots-Tag:noindex
X-PUBLISHED-TTL:PT1H
BEGIN:VTIMEZONE
TZID:UTC
BEGIN:STANDARD
TZOFFSETFROM:+0000
TZOFFSETTO:+0000
TZNAME:UTC
DTSTART:20220101T000000
END:STANDARD
END:VTIMEZONE
BEGIN:VEVENT
DTSTART;TZID=UTC:20230331T210000
DTEND;TZID=UTC:20230331T220000
DTSTAMP:20260423T210133
CREATED:20230321T202452Z
LAST-MODIFIED:20230321T202455Z
UID:24941-1680296400-1680300000@www.godsredeemingtemple.com
SUMMARY:Prayer Explosion
DESCRIPTION:Join Pastor G for prayer once a month on Fridays at 9pm. \n  \nJoin us here
URL:https://www.godsredeemingtemple.com/event/prayer-explosion-3/
ATTACH;FMTTYPE=image/png:https://www.godsredeemingtemple.com/wp-content/uploads/2023/01/PRAYER.png
END:VEVENT
BEGIN:VEVENT
DTSTART;TZID=UTC:20230502T193000
DTEND;TZID=UTC:20230502T203000
DTSTAMP:20260423T210133
CREATED:20230421T210314Z
LAST-MODIFIED:20230421T210318Z
UID:25067-1683055800-1683059400@www.godsredeemingtemple.com
SUMMARY:BIBLE STUDY
DESCRIPTION:Join Pastor G. every Tuesday weekly for weekly bible study at 7:30pm.
URL:https://www.godsredeemingtemple.com/event/bible-study-2/
END:VEVENT
BEGIN:VEVENT
DTSTART;TZID=UTC:20230425T000000
DTEND;TZID=UTC:20230425T003000
DTSTAMP:20260423T210133
CREATED:20230421T210328Z
LAST-MODIFIED:20230421T210626Z
UID:25069-1682380800-1682382600@www.godsredeemingtemple.com
SUMMARY:The Now Network
DESCRIPTION:Join Pastor G. every Tuesday on the NOW Network at 12am EST to 12:30am.
URL:https://www.godsredeemingtemple.com/event/the-now-network/
ATTACH;FMTTYPE=image/png:https://www.godsredeemingtemple.com/wp-content/uploads/2023/01/Yorie-Gipson.png
END:VEVENT
BEGIN:VEVENT
DTSTART;TZID=UTC:20230502T193000
DTEND;TZID=UTC:20230502T203000
DTSTAMP:20260423T210133
CREATED:20230421T210314Z
LAST-MODIFIED:20230421T210318Z
UID:25067-1683055800-1683059400@www.godsredeemingtemple.com
SUMMARY:BIBLE STUDY
DESCRIPTION:Join Pastor G. every Tuesday weekly for weekly bible study at 7:30pm.
URL:https://www.godsredeemingtemple.com/event/bible-study-2/
END:VEVENT
BEGIN:VEVENT
DTSTART;TZID=UTC:20230425T000000
DTEND;TZID=UTC:20230425T003000
DTSTAMP:20260423T210133
CREATED:20230421T210328Z
LAST-MODIFIED:20230421T210626Z
UID:25069-1682380800-1682382600@www.godsredeemingtemple.com
SUMMARY:The Now Network
DESCRIPTION:Join Pastor G. every Tuesday on the NOW Network at 12am EST to 12:30am.
URL:https://www.godsredeemingtemple.com/event/the-now-network/
ATTACH;FMTTYPE=image/png:https://www.godsredeemingtemple.com/wp-content/uploads/2023/01/Yorie-Gipson.png
END:VEVENT
BEGIN:VEVENT
DTSTART;TZID=UTC:20230502T193000
DTEND;TZID=UTC:20230502T203000
DTSTAMP:20260423T210133
CREATED:20230421T210314Z
LAST-MODIFIED:20230421T210318Z
UID:25067-1683055800-1683059400@www.godsredeemingtemple.com
SUMMARY:BIBLE STUDY
DESCRIPTION:Join Pastor G. every Tuesday weekly for weekly bible study at 7:30pm.
URL:https://www.godsredeemingtemple.com/event/bible-study-2/
END:VEVENT
BEGIN:VEVENT
DTSTART;TZID=UTC:20230425T000000
DTEND;TZID=UTC:20230425T003000
DTSTAMP:20260423T210133
CREATED:20230421T210328Z
LAST-MODIFIED:20230421T210626Z
UID:25069-1682380800-1682382600@www.godsredeemingtemple.com
SUMMARY:The Now Network
DESCRIPTION:Join Pastor G. every Tuesday on the NOW Network at 12am EST to 12:30am.
URL:https://www.godsredeemingtemple.com/event/the-now-network/
ATTACH;FMTTYPE=image/png:https://www.godsredeemingtemple.com/wp-content/uploads/2023/01/Yorie-Gipson.png
END:VEVENT
BEGIN:VEVENT
DTSTART;TZID=UTC:20230502T193000
DTEND;TZID=UTC:20230502T203000
DTSTAMP:20260423T210133
CREATED:20230421T210314Z
LAST-MODIFIED:20230421T210318Z
UID:25067-1683055800-1683059400@www.godsredeemingtemple.com
SUMMARY:BIBLE STUDY
DESCRIPTION:Join Pastor G. every Tuesday weekly for weekly bible study at 7:30pm.
URL:https://www.godsredeemingtemple.com/event/bible-study-2/
END:VEVENT
BEGIN:VEVENT
DTSTART;TZID=UTC:20230425T000000
DTEND;TZID=UTC:20230425T003000
DTSTAMP:20260423T210133
CREATED:20230421T210328Z
LAST-MODIFIED:20230421T210626Z
UID:25069-1682380800-1682382600@www.godsredeemingtemple.com
SUMMARY:The Now Network
DESCRIPTION:Join Pastor G. every Tuesday on the NOW Network at 12am EST to 12:30am.
URL:https://www.godsredeemingtemple.com/event/the-now-network/
ATTACH;FMTTYPE=image/png:https://www.godsredeemingtemple.com/wp-content/uploads/2023/01/Yorie-Gipson.png
END:VEVENT
BEGIN:VEVENT
DTSTART;TZID=UTC:20230502T193000
DTEND;TZID=UTC:20230502T203000
DTSTAMP:20260423T210133
CREATED:20230421T210314Z
LAST-MODIFIED:20230421T210318Z
UID:25067-1683055800-1683059400@www.godsredeemingtemple.com
SUMMARY:BIBLE STUDY
DESCRIPTION:Join Pastor G. every Tuesday weekly for weekly bible study at 7:30pm.
URL:https://www.godsredeemingtemple.com/event/bible-study-2/
END:VEVENT
BEGIN:VEVENT
DTSTART;TZID=UTC:20230502T193000
DTEND;TZID=UTC:20230502T203000
DTSTAMP:20260423T210133
CREATED:20230421T205806Z
LAST-MODIFIED:20230421T205809Z
UID:25063-1683055800-1683059400@www.godsredeemingtemple.com
SUMMARY:BIBLE STUDY
DESCRIPTION:Join Pastor G. every Tuesday weekly for weekly bible study at 7:30pm.
URL:https://www.godsredeemingtemple.com/event/bible-study/
END:VEVENT
BEGIN:VEVENT
DTSTART;TZID=UTC:20230425T000000
DTEND;TZID=UTC:20230425T003000
DTSTAMP:20260423T210133
CREATED:20230421T210328Z
LAST-MODIFIED:20230421T210626Z
UID:25069-1682380800-1682382600@www.godsredeemingtemple.com
SUMMARY:The Now Network
DESCRIPTION:Join Pastor G. every Tuesday on the NOW Network at 12am EST to 12:30am.
URL:https://www.godsredeemingtemple.com/event/the-now-network/
ATTACH;FMTTYPE=image/png:https://www.godsredeemingtemple.com/wp-content/uploads/2023/01/Yorie-Gipson.png
END:VEVENT
BEGIN:VEVENT
DTSTART;TZID=UTC:20230425T000000
DTEND;TZID=UTC:20230425T003000
DTSTAMP:20260423T210133
CREATED:20230421T210328Z
LAST-MODIFIED:20230421T210626Z
UID:25069-1682380800-1682382600@www.godsredeemingtemple.com
SUMMARY:The Now Network
DESCRIPTION:Join Pastor G. every Tuesday on the NOW Network at 12am EST to 12:30am.
URL:https://www.godsredeemingtemple.com/event/the-now-network/
ATTACH;FMTTYPE=image/png:https://www.godsredeemingtemple.com/wp-content/uploads/2023/01/Yorie-Gipson.png
END:VEVENT
BEGIN:VEVENT
DTSTART;TZID=UTC:20230331T210000
DTEND;TZID=UTC:20230331T220000
DTSTAMP:20260423T210133
CREATED:20230321T202452Z
LAST-MODIFIED:20230321T202455Z
UID:24941-1680296400-1680300000@www.godsredeemingtemple.com
SUMMARY:Prayer Explosion
DESCRIPTION:Join Pastor G for prayer once a month on Fridays at 9pm. \n  \nJoin us here
URL:https://www.godsredeemingtemple.com/event/prayer-explosion-3/
ATTACH;FMTTYPE=image/png:https://www.godsredeemingtemple.com/wp-content/uploads/2023/01/PRAYER.png
END:VEVENT
BEGIN:VEVENT
DTSTART;TZID=UTC:20230311T103000
DTEND;TZID=UTC:20230312T200000
DTSTAMP:20260423T210133
CREATED:20200428T132335Z
LAST-MODIFIED:20230224T152111Z
UID:1196-1678530600-1678651200@www.godsredeemingtemple.com
SUMMARY:Igniting Souls 2023
DESCRIPTION:Theme: Igniting Souls 2023 \nRecharging\, Redeveloping & Reawakening \n  \nGod’s Redeeming Temple Church \n9th Year Anniversary Celebration \nHosted by: Pastor Yori Gipson \nFeaturing a Morning Workshop \nEvening Comedy & Friends Night \n& Sunday Worship Service \n99 Laurel Bay Dr. Loganville Ga 30052 \nTickets for the Saturday Comedy Show are available on Eventbrite \nVIP Sponsorship Packages are available
URL:https://www.godsredeemingtemple.com/event/igniting-souls-2023/
LOCATION:99 Laurel Bay Dr. Loganville  Ga 30052\, 99 Laurel Bay Dr. Loganville Ga 30052\, Atlanta\, GA\, United States
ATTACH;FMTTYPE=image/png:https://www.godsredeemingtemple.com/wp-content/uploads/2020/04/igs.png
END:VEVENT
BEGIN:VEVENT
DTSTART;TZID=UTC:20230127T210000
DTEND;TZID=UTC:20230127T220000
DTSTAMP:20260423T210133
CREATED:20230111T154953Z
LAST-MODIFIED:20230116T224221Z
UID:24371-1674853200-1674856800@www.godsredeemingtemple.com
SUMMARY:Prayer Explosion
DESCRIPTION:Join Pastor G for prayer once a month on Fridays at 9pm. \n  \nJoin us here
URL:https://www.godsredeemingtemple.com/event/prayer-explosion/
ATTACH;FMTTYPE=image/png:https://www.godsredeemingtemple.com/wp-content/uploads/2023/01/PRAYER.png
END:VEVENT
BEGIN:VEVENT
DTSTART;TZID=UTC:20230127T210000
DTEND;TZID=UTC:20230127T220000
DTSTAMP:20260423T210133
CREATED:20230111T154953Z
LAST-MODIFIED:20230116T224221Z
UID:24371-1674853200-1674856800@www.godsredeemingtemple.com
SUMMARY:Prayer Explosion
DESCRIPTION:Join Pastor G for prayer once a month on Fridays at 9pm. \n  \nJoin us here
URL:https://www.godsredeemingtemple.com/event/prayer-explosion/
ATTACH;FMTTYPE=image/png:https://www.godsredeemingtemple.com/wp-content/uploads/2023/01/PRAYER.png
END:VEVENT
BEGIN:VEVENT
DTSTART;TZID=UTC:20230123T190000
DTEND;TZID=UTC:20230123T210000
DTSTAMP:20260423T210133
CREATED:20200504T180129Z
LAST-MODIFIED:20221208T233854Z
UID:1735-1674500400-1674507600@www.godsredeemingtemple.com
SUMMARY:GRT 2023 Vision Board Party
DESCRIPTION:As we embark upon this new season of our lives in 2023. We will use this vison board as a map to guide us to stay on task. We will visualize\, strategize and execute the plan for our future.
URL:https://www.godsredeemingtemple.com/event/grt-2023-vision-board-party/
LOCATION:Zoom
CATEGORIES:Zoom Events
ATTACH;FMTTYPE=image/png:https://www.godsredeemingtemple.com/wp-content/uploads/2020/05/v-board.png
END:VEVENT
BEGIN:VEVENT
DTSTART;TZID=UTC:20230123T190000
DTEND;TZID=UTC:20230123T210000
DTSTAMP:20260423T210133
CREATED:20200504T180129Z
LAST-MODIFIED:20200504T180129Z
UID:24527-1674500400-1674507600@www.godsredeemingtemple.com
SUMMARY:GRT 2023 Vision Board Party
DESCRIPTION:As we embark upon this new season of our lives in 2023. We will use this vison board as a map to guide us to stay on task. We will visualize\, strategize and execute the plan for our future.
URL:https://www.godsredeemingtemple.com/event/grt-2023-vision-board-party-2/
LOCATION:Zoom
CATEGORIES:Zoom Events
ATTACH;FMTTYPE=image/png:https://www.godsredeemingtemple.com/wp-content/uploads/2020/05/v-board.png
END:VEVENT
END:VCALENDAR